Package: RTNsurvival Version: 1.33.0 Command: /Library/Frameworks/R.framework/Resources/bin/R CMD INSTALL RTNsurvival StartedAt: 2025-07-11 15:14:00 -0400 (Fri, 11 Jul 2025) EndedAt: 2025-07-11 15:14:13 -0400 (Fri, 11 Jul 2025) EllapsedTime: 12.3 seconds RetCode: 0 Status: OK