Package: RTNsurvival Version: 1.33.0 Command: /Library/Frameworks/R.framework/Resources/bin/R CMD check --install=check:RTNsurvival.install-out.txt --library=/Library/Frameworks/R.framework/Resources/library --no-vignettes --timings RTNsurvival_1.33.0.tar.gz StartedAt: 2025-07-11 21:10:20 -0400 (Fri, 11 Jul 2025) EndedAt: 2025-07-11 21:11:50 -0400 (Fri, 11 Jul 2025) EllapsedTime: 90.1 seconds RetCode: 0 Status: OK CheckDir: RTNsurvival.Rcheck Warnings: 0