Package: RTNsurvival Version: 1.33.0 Command: /Library/Frameworks/R.framework/Resources/bin/R CMD build --keep-empty-dirs --no-resave-data RTNsurvival StartedAt: 2025-07-11 17:25:25 -0400 (Fri, 11 Jul 2025) EndedAt: 2025-07-11 17:25:45 -0400 (Fri, 11 Jul 2025) EllapsedTime: 20.2 seconds RetCode: 0 Status: OK PackageFile: RTNsurvival_1.33.0.tar.gz PackageFileSize: 733.1 KiB