Package: RTNsurvival Version: 1.33.0 Maintainer: Clarice Groeneveld , Mauro A. A. Castro MaintainerEmail: mauro.a.castro at gmail.com git_url: https://git.bioconductor.org/packages/RTNsurvival git_branch: devel git_last_commit: 47bfd0e git_last_commit_date: 2025-04-15 11:11:48 -0400 (Tue, 15 Apr 2025)