Package: RTNduals Version: 1.33.0 Command: F:\biocbuild\bbs-3.22-bioc\R\bin\R.exe CMD INSTALL RTNduals StartedAt: 2025-07-24 16:17:40 -0400 (Thu, 24 Jul 2025) EndedAt: 2025-07-24 16:18:21 -0400 (Thu, 24 Jul 2025) EllapsedTime: 40.6 seconds RetCode: 0 Status: OK