Package: RTNduals Version: 1.33.0 Command: rm -rf RTNduals.buildbin-libdir && mkdir RTNduals.buildbin-libdir && /Users/biocbuild/BBS/utils/build-universal.sh RTNduals_1.33.0.tar.gz /Library/Frameworks/R.framework/Resources/bin/R RTNduals.buildbin-libdir StartedAt: 2025-06-28 01:02:16 -0400 (Sat, 28 Jun 2025) EndedAt: 2025-06-28 01:02:59 -0400 (Sat, 28 Jun 2025) EllapsedTime: 42.4 seconds RetCode: 0 Status: OK PackageFile: RTNduals_1.33.0.tgz PackageFileSize: 739.2 KiB