Package: RTN Version: 2.33.0 Command: /home/biocbuild/R/R/bin/R CMD build --keep-empty-dirs --no-resave-data RTN StartedAt: 2025-10-10 03:42:15 -0000 (Fri, 10 Oct 2025) EndedAt: 2025-10-10 03:47:42 -0000 (Fri, 10 Oct 2025) EllapsedTime: 327.5 seconds RetCode: 0 Status: OK PackageFile: RTN_2.33.0.tar.gz PackageFileSize: 10.29 MiB