Package: RTN Version: 2.33.0 Command: F:\biocbuild\bbs-3.22-bioc\R\bin\R.exe CMD check --no-multiarch --install=check:RTN.install-out.txt --library=F:\biocbuild\bbs-3.22-bioc\R\library --no-vignettes --timings RTN_2.33.0.tar.gz StartedAt: 2025-08-15 07:20:11 -0400 (Fri, 15 Aug 2025) EndedAt: 2025-08-15 07:25:21 -0400 (Fri, 15 Aug 2025) EllapsedTime: 310.4 seconds RetCode: 0 Status: OK CheckDir: RTN.Rcheck Warnings: 0