Package: RTN Version: 2.33.0 Command: chmod a+r RTN -R && F:\biocbuild\bbs-3.22-bioc\R\bin\R.exe CMD build --keep-empty-dirs --no-resave-data RTN StartedAt: 2025-08-14 22:54:52 -0400 (Thu, 14 Aug 2025) EndedAt: 2025-08-14 22:58:35 -0400 (Thu, 14 Aug 2025) EllapsedTime: 222.1 seconds RetCode: 0 Status: OK PackageFile: RTN_2.33.0.tar.gz PackageFileSize: 10.26 MiB