Package: RSVSim Version: 1.49.0 Command: /home/biocbuild/R/R/bin/R CMD INSTALL RSVSim StartedAt: 2025-06-30 21:16:53 -0000 (Mon, 30 Jun 2025) EndedAt: 2025-06-30 21:17:35 -0000 (Mon, 30 Jun 2025) EllapsedTime: 42.0 seconds RetCode: 0 Status: OK