Package: RSVSim Version: 1.49.0 Command: /home/biocbuild/R/R/bin/R CMD check --install=check:RSVSim.install-out.txt --library=/home/biocbuild/R/R/site-library --no-vignettes --timings RSVSim_1.49.0.tar.gz StartedAt: 2025-07-01 11:12:33 -0000 (Tue, 01 Jul 2025) EndedAt: 2025-07-01 11:16:52 -0000 (Tue, 01 Jul 2025) EllapsedTime: 259.6 seconds RetCode: 0 Status: OK CheckDir: RSVSim.Rcheck Warnings: 0