Package: RSVSim Version: 1.49.0 Command: /home/biocbuild/R/R/bin/R CMD build --keep-empty-dirs --no-resave-data RSVSim StartedAt: 2025-07-01 02:27:22 -0000 (Tue, 01 Jul 2025) EndedAt: 2025-07-01 02:28:34 -0000 (Tue, 01 Jul 2025) EllapsedTime: 72.1 seconds RetCode: 0 Status: OK PackageFile: RSVSim_1.49.0.tar.gz PackageFileSize: 500.3 KiB