Package: RSVSim Version: 1.49.0 Command: F:\biocbuild\bbs-3.22-bioc\R\bin\R.exe CMD INSTALL RSVSim StartedAt: 2025-07-24 16:55:45 -0400 (Thu, 24 Jul 2025) EndedAt: 2025-07-24 16:56:24 -0400 (Thu, 24 Jul 2025) EllapsedTime: 39.7 seconds RetCode: 0 Status: OK