Package: RSVSim Version: 1.49.0 Command: chmod a+r RSVSim -R && F:\biocbuild\bbs-3.22-bioc\R\bin\R.exe CMD build --keep-empty-dirs --no-resave-data RSVSim StartedAt: 2025-07-24 21:58:50 -0400 (Thu, 24 Jul 2025) EndedAt: 2025-07-24 22:00:36 -0400 (Thu, 24 Jul 2025) EllapsedTime: 106.2 seconds RetCode: 0 Status: OK PackageFile: RSVSim_1.49.0.tar.gz PackageFileSize: 504.5 KiB