Package: RSVSim Version: 1.49.0 Command: rm -rf RSVSim.buildbin-libdir && mkdir RSVSim.buildbin-libdir && F:\biocbuild\bbs-3.22-bioc\R\bin\R.exe CMD INSTALL --build --library=RSVSim.buildbin-libdir RSVSim_1.49.0.tar.gz StartedAt: 2025-07-25 10:10:21 -0400 (Fri, 25 Jul 2025) EndedAt: 2025-07-25 10:11:11 -0400 (Fri, 25 Jul 2025) EllapsedTime: 50.3 seconds RetCode: 0 Status: OK PackageFile: RSVSim_1.49.0.zip PackageFileSize: 616.8 KiB