Package: RSVSim Version: 1.49.0 Command: /home/biocbuild/bbs-3.22-bioc/R/bin/R CMD check --install=check:RSVSim.install-out.txt --library=/home/biocbuild/bbs-3.22-bioc/R/site-library --timings RSVSim_1.49.0.tar.gz StartedAt: 2025-07-16 01:55:42 -0400 (Wed, 16 Jul 2025) EndedAt: 2025-07-16 01:59:33 -0400 (Wed, 16 Jul 2025) EllapsedTime: 231.3 seconds RetCode: 0 Status: OK CheckDir: RSVSim.Rcheck Warnings: 0