Package: RSVSim Version: 1.49.0 Command: /Library/Frameworks/R.framework/Resources/bin/R CMD build --keep-empty-dirs --no-resave-data RSVSim StartedAt: 2025-06-29 17:26:26 -0400 (Sun, 29 Jun 2025) EndedAt: 2025-06-29 17:26:49 -0400 (Sun, 29 Jun 2025) EllapsedTime: 22.3 seconds RetCode: 0 Status: OK PackageFile: RSVSim_1.49.0.tar.gz PackageFileSize: 505 KiB