Package: RSVSim Version: 1.49.0 Command: rm -rf RSVSim.buildbin-libdir && mkdir RSVSim.buildbin-libdir && /Users/biocbuild/BBS/utils/build-universal.sh RSVSim_1.49.0.tar.gz /Library/Frameworks/R.framework/Resources/bin/R RSVSim.buildbin-libdir StartedAt: 2025-06-29 22:32:05 -0400 (Sun, 29 Jun 2025) EndedAt: 2025-06-29 22:32:19 -0400 (Sun, 29 Jun 2025) EllapsedTime: 14.2 seconds RetCode: 0 Status: OK PackageFile: RSVSim_1.49.0.tgz PackageFileSize: 614.1 KiB