Package: RRHO Version: 1.49.0 Command: /home/biocbuild/R/R/bin/R CMD INSTALL RRHO StartedAt: 2025-10-02 20:19:57 -0000 (Thu, 02 Oct 2025) EndedAt: 2025-10-02 20:20:31 -0000 (Thu, 02 Oct 2025) EllapsedTime: 34.0 seconds RetCode: 0 Status: OK