Package: RPA Version: 1.65.0 Command: /home/biocbuild/R/R/bin/R CMD INSTALL RPA StartedAt: 2025-07-14 20:31:05 -0000 (Mon, 14 Jul 2025) EndedAt: 2025-07-14 20:31:31 -0000 (Mon, 14 Jul 2025) EllapsedTime: 26.4 seconds RetCode: 0 Status: OK