Package: RPA Version: 1.65.0 Command: /home/biocbuild/R/R/bin/R CMD check --install=check:RPA.install-out.txt --library=/home/biocbuild/R/R/site-library --no-vignettes --timings RPA_1.65.0.tar.gz StartedAt: 2025-07-18 10:38:12 -0000 (Fri, 18 Jul 2025) EndedAt: 2025-07-18 10:41:06 -0000 (Fri, 18 Jul 2025) EllapsedTime: 174.1 seconds RetCode: 0 Status: OK CheckDir: RPA.Rcheck Warnings: 0