Package: RPA Version: 1.65.0 Command: chmod a+r RPA -R && F:\biocbuild\bbs-3.22-bioc\R\bin\R.exe CMD build --keep-empty-dirs --no-resave-data RPA StartedAt: 2025-07-22 21:45:36 -0400 (Tue, 22 Jul 2025) EndedAt: 2025-07-22 21:46:50 -0400 (Tue, 22 Jul 2025) EllapsedTime: 73.6 seconds RetCode: 0 Status: OK PackageFile: RPA_1.65.0.tar.gz PackageFileSize: 260.6 KiB