Package: RPA Version: 1.65.0 Command: rm -rf RPA.buildbin-libdir && mkdir RPA.buildbin-libdir && F:\biocbuild\bbs-3.22-bioc\R\bin\R.exe CMD INSTALL --build --library=RPA.buildbin-libdir RPA_1.65.0.tar.gz StartedAt: 2025-07-23 10:00:39 -0400 (Wed, 23 Jul 2025) EndedAt: 2025-07-23 10:01:17 -0400 (Wed, 23 Jul 2025) EllapsedTime: 38.1 seconds RetCode: 0 Status: OK PackageFile: RPA_1.65.0.zip PackageFileSize: 393.8 KiB