Package: RPA Version: 1.65.0 Command: /home/biocbuild/bbs-3.22-bioc/R/bin/R CMD check --install=check:RPA.install-out.txt --library=/home/biocbuild/bbs-3.22-bioc/R/site-library --timings RPA_1.65.0.tar.gz StartedAt: 2025-06-28 01:51:46 -0400 (Sat, 28 Jun 2025) EndedAt: 2025-06-28 01:54:04 -0400 (Sat, 28 Jun 2025) EllapsedTime: 137.1 seconds RetCode: 0 Status: OK CheckDir: RPA.Rcheck Warnings: 0