Package: RPA Version: 1.65.0 Command: /Library/Frameworks/R.framework/Resources/bin/R CMD INSTALL RPA StartedAt: 2025-07-07 15:17:12 -0400 (Mon, 07 Jul 2025) EndedAt: 2025-07-07 15:17:40 -0400 (Mon, 07 Jul 2025) EllapsedTime: 27.9 seconds RetCode: 0 Status: OK