Package: RPA Version: 1.65.0 Command: /Library/Frameworks/R.framework/Resources/bin/R CMD check --install=check:RPA.install-out.txt --library=/Library/Frameworks/R.framework/Resources/library --no-vignettes --timings RPA_1.65.0.tar.gz StartedAt: 2025-07-09 23:33:55 -0400 (Wed, 09 Jul 2025) EndedAt: 2025-07-09 23:36:33 -0400 (Wed, 09 Jul 2025) EllapsedTime: 157.6 seconds RetCode: 0 Status: OK CheckDir: RPA.Rcheck Warnings: 0