Package: RPA Version: 1.65.0 Command: /Library/Frameworks/R.framework/Resources/bin/R CMD build --keep-empty-dirs --no-resave-data RPA StartedAt: 2025-07-09 18:37:06 -0400 (Wed, 09 Jul 2025) EndedAt: 2025-07-09 18:37:34 -0400 (Wed, 09 Jul 2025) EllapsedTime: 27.4 seconds RetCode: 0 Status: OK PackageFile: RPA_1.65.0.tar.gz PackageFileSize: 260.5 KiB