Package: ROntoTools Version: 2.37.0 Command: F:\biocbuild\bbs-3.22-bioc\R\bin\R.exe CMD check --no-multiarch --install=check:ROntoTools.install-out.txt --library=F:\biocbuild\bbs-3.22-bioc\R\library --no-vignettes --timings ROntoTools_2.37.0.tar.gz StartedAt: 2025-07-12 05:52:15 -0400 (Sat, 12 Jul 2025) EndedAt: 2025-07-12 05:55:27 -0400 (Sat, 12 Jul 2025) EllapsedTime: 191.4 seconds RetCode: 0 Status: WARNINGS CheckDir: ROntoTools.Rcheck Warnings: 1