Package: ROTS Version: 2.1.1 Command: F:\biocbuild\bbs-3.22-bioc\R\bin\R.exe CMD INSTALL ROTS StartedAt: 2025-07-22 15:43:07 -0400 (Tue, 22 Jul 2025) EndedAt: 2025-07-22 15:43:35 -0400 (Tue, 22 Jul 2025) EllapsedTime: 28.4 seconds RetCode: 0 Status: OK