Package: ROTS Version: 2.1.1 Command: chmod a+r ROTS -R && F:\biocbuild\bbs-3.22-bioc\R\bin\R.exe CMD build --keep-empty-dirs --no-resave-data ROTS StartedAt: 2025-07-22 21:45:28 -0400 (Tue, 22 Jul 2025) EndedAt: 2025-07-22 21:46:29 -0400 (Tue, 22 Jul 2025) EllapsedTime: 61.5 seconds RetCode: 0 Status: OK PackageFile: ROTS_2.1.1.tar.gz PackageFileSize: 351.3 KiB