Package: ROTS Version: 2.1.1 Command: rm -rf ROTS.buildbin-libdir && mkdir ROTS.buildbin-libdir && F:\biocbuild\bbs-3.22-bioc\R\bin\R.exe CMD INSTALL --build --library=ROTS.buildbin-libdir ROTS_2.1.1.tar.gz StartedAt: 2025-07-23 10:00:37 -0400 (Wed, 23 Jul 2025) EndedAt: 2025-07-23 10:01:08 -0400 (Wed, 23 Jul 2025) EllapsedTime: 30.8 seconds RetCode: 0 Status: OK PackageFile: ROTS_2.1.1.zip PackageFileSize: 781.8 KiB