Package: ROTS Version: 2.1.1 Command: /Library/Frameworks/R.framework/Resources/bin/R CMD check --install=check:ROTS.install-out.txt --library=/Library/Frameworks/R.framework/Resources/library --no-vignettes --timings ROTS_2.1.1.tar.gz StartedAt: 2025-07-11 23:13:54 -0400 (Fri, 11 Jul 2025) EndedAt: 2025-07-11 23:15:19 -0400 (Fri, 11 Jul 2025) EllapsedTime: 84.9 seconds RetCode: 0 Status: OK CheckDir: ROTS.Rcheck Warnings: 0