Package: ROTS Version: 2.1.1 Command: rm -rf ROTS.buildbin-libdir && mkdir ROTS.buildbin-libdir && /Users/biocbuild/BBS/utils/build-universal.sh ROTS_2.1.1.tar.gz /Library/Frameworks/R.framework/Resources/bin/R ROTS.buildbin-libdir StartedAt: 2025-07-12 01:16:02 -0400 (Sat, 12 Jul 2025) EndedAt: 2025-07-12 01:16:31 -0400 (Sat, 12 Jul 2025) EllapsedTime: 28.9 seconds RetCode: 0 Status: OK PackageFile: ROTS_2.1.1.tgz PackageFileSize: 563.3 KiB