Package: ROTS Version: 2.1.0 Command: /Library/Frameworks/R.framework/Resources/bin/R CMD INSTALL ROTS StartedAt: 2025-07-01 15:07:53 -0400 (Tue, 01 Jul 2025) EndedAt: 2025-07-01 15:07:59 -0400 (Tue, 01 Jul 2025) EllapsedTime: 6.6 seconds RetCode: 0 Status: OK