Package: ROTS Version: 2.1.0 Command: /Library/Frameworks/R.framework/Resources/bin/R CMD check --install=check:ROTS.install-out.txt --library=/Library/Frameworks/R.framework/Resources/library --no-vignettes --timings ROTS_2.1.0.tar.gz StartedAt: 2025-07-01 21:07:30 -0400 (Tue, 01 Jul 2025) EndedAt: 2025-07-01 21:08:07 -0400 (Tue, 01 Jul 2025) EllapsedTime: 36.4 seconds RetCode: 0 Status: OK CheckDir: ROTS.Rcheck Warnings: 0