Package: ROTS Version: 2.1.0 Command: rm -rf ROTS.buildbin-libdir && mkdir ROTS.buildbin-libdir && /Users/biocbuild/BBS/utils/build-universal.sh ROTS_2.1.0.tar.gz /Library/Frameworks/R.framework/Resources/bin/R ROTS.buildbin-libdir StartedAt: 2025-07-01 22:32:42 -0400 (Tue, 01 Jul 2025) EndedAt: 2025-07-01 22:32:49 -0400 (Tue, 01 Jul 2025) EllapsedTime: 7.1 seconds RetCode: 0 Status: OK PackageFile: ROTS_2.1.0.tgz PackageFileSize: 563.9 KiB