Package: ROCpAI Version: 1.21.0 Command: F:\biocbuild\bbs-3.22-bioc\R\bin\R.exe CMD check --no-multiarch --install=check:ROCpAI.install-out.txt --library=F:\biocbuild\bbs-3.22-bioc\R\library --no-vignettes --timings ROCpAI_1.21.0.tar.gz StartedAt: 2025-07-12 05:51:37 -0400 (Sat, 12 Jul 2025) EndedAt: 2025-07-12 05:54:22 -0400 (Sat, 12 Jul 2025) EllapsedTime: 165.2 seconds RetCode: 0 Status: OK CheckDir: ROCpAI.Rcheck Warnings: 0