Package: ROCpAI Version: 1.21.0 Command: chmod a+r ROCpAI -R && F:\biocbuild\bbs-3.22-bioc\R\bin\R.exe CMD build --keep-empty-dirs --no-resave-data ROCpAI StartedAt: 2025-07-11 21:39:57 -0400 (Fri, 11 Jul 2025) EndedAt: 2025-07-11 21:40:45 -0400 (Fri, 11 Jul 2025) EllapsedTime: 47.3 seconds RetCode: 0 Status: OK PackageFile: ROCpAI_1.21.0.tar.gz PackageFileSize: 324 KiB