Package: RNAseqCovarImpute Version: 1.7.0 Command: chmod a+r RNAseqCovarImpute -R && F:\biocbuild\bbs-3.22-bioc\R\bin\R.exe CMD build --keep-empty-dirs --no-resave-data RNAseqCovarImpute StartedAt: 2025-08-14 22:50:11 -0400 (Thu, 14 Aug 2025) EndedAt: 2025-08-14 22:51:41 -0400 (Thu, 14 Aug 2025) EllapsedTime: 90.5 seconds RetCode: 0 Status: OK PackageFile: RNAseqCovarImpute_1.7.0.tar.gz PackageFileSize: 768.6 KiB