Package: RNAsense Version: 1.23.0 Command: /Library/Frameworks/R.framework/Resources/bin/R CMD INSTALL RNAsense StartedAt: 2025-07-07 15:17:53 -0400 (Mon, 07 Jul 2025) EndedAt: 2025-07-07 15:18:24 -0400 (Mon, 07 Jul 2025) EllapsedTime: 30.6 seconds RetCode: 0 Status: OK