Package: RNAsense Version: 1.23.0 Command: /Library/Frameworks/R.framework/Resources/bin/R CMD build --keep-empty-dirs --no-resave-data RNAsense StartedAt: 2025-07-07 18:15:26 -0400 (Mon, 07 Jul 2025) EndedAt: 2025-07-07 18:20:20 -0400 (Mon, 07 Jul 2025) EllapsedTime: 293.8 seconds RetCode: 0 Status: OK PackageFile: RNAsense_1.23.0.tar.gz PackageFileSize: 911.5 KiB