Package: RNAsense Version: 1.23.0 Command: /Library/Frameworks/R.framework/Resources/bin/R CMD INSTALL RNAsense StartedAt: 2025-07-07 15:11:09 -0400 (Mon, 07 Jul 2025) EndedAt: 2025-07-07 15:11:18 -0400 (Mon, 07 Jul 2025) EllapsedTime: 8.8 seconds RetCode: 0 Status: OK