Package: RNAsense Version: 1.23.0 Command: /Library/Frameworks/R.framework/Resources/bin/R CMD check --install=check:RNAsense.install-out.txt --library=/Library/Frameworks/R.framework/Resources/library --no-vignettes --timings RNAsense_1.23.0.tar.gz StartedAt: 2025-07-07 21:03:57 -0400 (Mon, 07 Jul 2025) EndedAt: 2025-07-07 21:08:18 -0400 (Mon, 07 Jul 2025) EllapsedTime: 261.6 seconds RetCode: 0 Status: WARNINGS CheckDir: RNAsense.Rcheck Warnings: 1