Package: RNAsense Version: 1.23.0 Command: rm -rf RNAsense.buildbin-libdir && mkdir RNAsense.buildbin-libdir && /Users/biocbuild/BBS/utils/build-universal.sh RNAsense_1.23.0.tar.gz /Library/Frameworks/R.framework/Resources/bin/R RNAsense.buildbin-libdir StartedAt: 2025-07-07 22:30:14 -0400 (Mon, 07 Jul 2025) EndedAt: 2025-07-07 22:30:24 -0400 (Mon, 07 Jul 2025) EllapsedTime: 10.2 seconds RetCode: 0 Status: OK PackageFile: RNAsense_1.23.0.tgz PackageFileSize: 949.6 KiB