Package: RNAmodR Version: 1.23.0 Command: /home/biocbuild/R/R/bin/R CMD INSTALL RNAmodR StartedAt: 2025-07-14 21:08:17 -0000 (Mon, 14 Jul 2025) EndedAt: 2025-07-14 21:09:51 -0000 (Mon, 14 Jul 2025) EllapsedTime: 94.0 seconds RetCode: 0 Status: OK