Package: RNAmodR Version: 1.23.0 Command: /home/biocbuild/R/R/bin/R CMD check --install=check:RNAmodR.install-out.txt --library=/home/biocbuild/R/R/site-library --no-vignettes --timings RNAmodR_1.23.0.tar.gz StartedAt: 2025-07-18 10:32:48 -0000 (Fri, 18 Jul 2025) EndedAt: 2025-07-18 10:44:53 -0000 (Fri, 18 Jul 2025) EllapsedTime: 724.8 seconds RetCode: 0 Status: WARNINGS CheckDir: RNAmodR.Rcheck Warnings: 1