Package: RNAmodR.RiboMethSeq Version: 1.23.1 Command: rm -rf RNAmodR.RiboMethSeq.buildbin-libdir && mkdir RNAmodR.RiboMethSeq.buildbin-libdir && /Users/biocbuild/BBS/utils/build-universal.sh RNAmodR.RiboMethSeq_1.23.1.tar.gz /Library/Frameworks/R.framework/Resources/bin/R RNAmodR.RiboMethSeq.buildbin-libdir StartedAt: 2025-10-05 22:56:53 -0400 (Sun, 05 Oct 2025) EndedAt: 2025-10-05 22:57:19 -0400 (Sun, 05 Oct 2025) EllapsedTime: 25.5 seconds RetCode: 0 Status: OK PackageFile: RNAmodR.RiboMethSeq_1.23.1.tgz PackageFileSize: 720.9 KiB