Package: RNAmodR.AlkAnilineSeq Version: 1.23.0 Command: F:\biocbuild\bbs-3.22-bioc\R\bin\R.exe CMD INSTALL RNAmodR.AlkAnilineSeq StartedAt: 2025-07-01 16:47:10 -0400 (Tue, 01 Jul 2025) EndedAt: 2025-07-01 16:48:51 -0400 (Tue, 01 Jul 2025) EllapsedTime: 101.0 seconds RetCode: 0 Status: OK