Package: RNAmodR.AlkAnilineSeq Version: 1.23.0 Command: F:\biocbuild\bbs-3.22-bioc\R\bin\R.exe CMD check --no-multiarch --install=check:RNAmodR.AlkAnilineSeq.install-out.txt --library=F:\biocbuild\bbs-3.22-bioc\R\library --no-vignettes --timings RNAmodR.AlkAnilineSeq_1.23.0.tar.gz StartedAt: 2025-07-02 05:47:57 -0400 (Wed, 02 Jul 2025) EndedAt: 2025-07-02 05:57:15 -0400 (Wed, 02 Jul 2025) EllapsedTime: 558.0 seconds RetCode: 0 Status: WARNINGS CheckDir: RNAmodR.AlkAnilineSeq.Rcheck Warnings: 1