Package: RNAmodR.AlkAnilineSeq Version: 1.23.0 Command: /home/biocbuild/bbs-3.22-bioc/R/bin/R CMD check --install=check:RNAmodR.AlkAnilineSeq.install-out.txt --library=/home/biocbuild/bbs-3.22-bioc/R/site-library --timings RNAmodR.AlkAnilineSeq_1.23.0.tar.gz StartedAt: 2025-07-17 02:05:15 -0400 (Thu, 17 Jul 2025) EndedAt: 2025-07-17 02:13:49 -0400 (Thu, 17 Jul 2025) EllapsedTime: 513.6 seconds RetCode: 0 Status: WARNINGS CheckDir: RNAmodR.AlkAnilineSeq.Rcheck Warnings: 1